BEGIN:VCALENDAR
VERSION:2.0
PRODID:-//Kommission für Saarländische Landesgeschichte e.V. - ECPv6.15.20//NONSGML v1.0//EN
CALSCALE:GREGORIAN
METHOD:PUBLISH
X-ORIGINAL-URL:https://landesgeschichte-saar.de
X-WR-CALDESC:Veranstaltungen für Kommission für Saarländische Landesgeschichte e.V.
REFRESH-INTERVAL;VALUE=DURATION:PT1H
X-Robots-Tag:noindex
X-PUBLISHED-TTL:PT1H
BEGIN:VTIMEZONE
TZID:Europe/Berlin
BEGIN:DAYLIGHT
TZOFFSETFROM:+0100
TZOFFSETTO:+0200
TZNAME:CEST
DTSTART:20250330T010000
END:DAYLIGHT
BEGIN:STANDARD
TZOFFSETFROM:+0200
TZOFFSETTO:+0100
TZNAME:CET
DTSTART:20251026T010000
END:STANDARD
BEGIN:DAYLIGHT
TZOFFSETFROM:+0100
TZOFFSETTO:+0200
TZNAME:CEST
DTSTART:20260329T010000
END:DAYLIGHT
BEGIN:STANDARD
TZOFFSETFROM:+0200
TZOFFSETTO:+0100
TZNAME:CET
DTSTART:20261025T010000
END:STANDARD
BEGIN:DAYLIGHT
TZOFFSETFROM:+0100
TZOFFSETTO:+0200
TZNAME:CEST
DTSTART:20270328T010000
END:DAYLIGHT
BEGIN:STANDARD
TZOFFSETFROM:+0200
TZOFFSETTO:+0100
TZNAME:CET
DTSTART:20271031T010000
END:STANDARD
END:VTIMEZONE
BEGIN:VEVENT
DTSTART;TZID=Europe/Berlin:20260226T180000
DTEND;TZID=Europe/Berlin:20260226T193000
DTSTAMP:20260422T195514
CREATED:20260122T140407Z
LAST-MODIFIED:20260122T140549Z
UID:2022-1772128800-1772134200@landesgeschichte-saar.de
SUMMARY:Ines Heisig - „Ein Dorn im Auge“. Die Gründung der saarländischen Polizeibeamtenvereinigung VSP und ihr Weg zur Gewerkschaft der Polizei
DESCRIPTION:Die Anfänge der Gewerkschaft der Polizei des Saarlandes (GdP Saar) sind das Thema des Vortrags von Ines Heisig. Die Historikerin arbeitet die Anpassungskonflikte der Nachkriegspolizei in dieser von mehreren Umbrüchen gekennzeichneten Phase heraus und betrachtet dabei die politische Säuberung\, die teils katastrophalen Verhältnisse hinsichtlich Ausstattung\, Infrastruktur und Arbeitsbedingungen sowie den Aufbau der 1951 gegründeten\, aber politisch ungewollten Interessensvertretung VSP (Vereinigung saarländischer Polizeibeamter). Trotz ausgesprochen starkem Rückhalt in der Polizei konnte sich aus Sicht des Vorstandes die Vereinigung erst nach dem Abstimmungskampf im Saarland 1955 positiv entwickeln. Sie nannte sich 1956 in „Vereinigung Deutscher Polizeibeamter an der Saar“ (VDSP) um und schloss sich schließlich 1957 der Bundes-GdP an. Damit setzte ein tiefgreifender Wandel von einer reinen Berufsvertretung hin zu einer modernen Gewerkschaft ein.
URL:https://landesgeschichte-saar.de/event/ines-heisig-ein-dorn-im-auge-die-gruendung-der-saarlaendischen-polizeibeamtenvereinigung-vsp-und-ihr-weg-zur-gewerkschaft-der-polizei/
LOCATION:Historisches Museum Saar\, Schloßpl. 15\, Saarbrücken\, Saarland\, 66119\, Deutschland
END:VEVENT
END:VCALENDAR