BEGIN:VCALENDAR
VERSION:2.0
PRODID:-//Kommission für Saarländische Landesgeschichte e.V. - ECPv6.15.20//NONSGML v1.0//EN
CALSCALE:GREGORIAN
METHOD:PUBLISH
X-WR-CALNAME:Kommission für Saarländische Landesgeschichte e.V.
X-ORIGINAL-URL:https://landesgeschichte-saar.de
X-WR-CALDESC:Veranstaltungen für Kommission für Saarländische Landesgeschichte e.V.
REFRESH-INTERVAL;VALUE=DURATION:PT1H
X-Robots-Tag:noindex
X-PUBLISHED-TTL:PT1H
BEGIN:VTIMEZONE
TZID:Europe/Berlin
BEGIN:DAYLIGHT
TZOFFSETFROM:+0100
TZOFFSETTO:+0200
TZNAME:CEST
DTSTART:20210328T010000
END:DAYLIGHT
BEGIN:STANDARD
TZOFFSETFROM:+0200
TZOFFSETTO:+0100
TZNAME:CET
DTSTART:20211031T010000
END:STANDARD
BEGIN:DAYLIGHT
TZOFFSETFROM:+0100
TZOFFSETTO:+0200
TZNAME:CEST
DTSTART:20220327T010000
END:DAYLIGHT
BEGIN:STANDARD
TZOFFSETFROM:+0200
TZOFFSETTO:+0100
TZNAME:CET
DTSTART:20221030T010000
END:STANDARD
BEGIN:DAYLIGHT
TZOFFSETFROM:+0100
TZOFFSETTO:+0200
TZNAME:CEST
DTSTART:20230326T010000
END:DAYLIGHT
BEGIN:STANDARD
TZOFFSETFROM:+0200
TZOFFSETTO:+0100
TZNAME:CET
DTSTART:20231029T010000
END:STANDARD
END:VTIMEZONE
BEGIN:VEVENT
DTSTART;TZID=Europe/Berlin:20221014T181500
DTEND;TZID=Europe/Berlin:20221015T170000
DTSTAMP:20260424T170242
CREATED:20220926T123711Z
LAST-MODIFIED:20220926T123711Z
UID:1235-1665771300-1665853200@landesgeschichte-saar.de
SUMMARY:49. Tag der Landesgeschichte: Sport in der Regionalgeschichte
DESCRIPTION:Programm \nANMELDUNG BIS ZUM 07. OKTOBER 2022 \nLandesarchiv Saarbrücken\nDr. Peter Wettmann-Jungblut\nE-Mail: p.wettmann@landesarchiv.saarland.de\nTel.: 0681/ 5011928
URL:https://landesgeschichte-saar.de/event/49-tag-der-landesgeschichte-sport-in-der-regionalgeschichte/
LOCATION:Universität des Saarlandes\, Gebäude B3 1 Campus\, Saarbrücken\, Saarland\, 66123\, Deutschland
END:VEVENT
BEGIN:VEVENT
DTSTART;TZID=Europe/Berlin:20221021T153000
DTEND;TZID=Europe/Berlin:20221021T170000
DTSTAMP:20260424T170242
CREATED:20220810T100937Z
LAST-MODIFIED:20220810T101120Z
UID:1210-1666366200-1666371600@landesgeschichte-saar.de
SUMMARY:71. Ordentliche Mitgliederversammlung der Kommission für Saarländische Landesgeschichte
DESCRIPTION:71. Ordentliche Mitgliederversammlung am 21. Oktober 2022\nim Historischen Museum Saar (Schlossplatz 15\, 66119 Saarbrücken)
URL:https://landesgeschichte-saar.de/event/71-ordentliche-mitgliederversammlung-der-kommission-fuer-saarlaendische-landesgeschichte/
LOCATION:Historisches Museum Saar\, Schloßpl. 15\, Saarbrücken\, Saarland\, 66119\, Deutschland
END:VEVENT
END:VCALENDAR