BEGIN:VCALENDAR
VERSION:2.0
PRODID:-//Kommission für Saarländische Landesgeschichte e.V. - ECPv6.15.20//NONSGML v1.0//EN
CALSCALE:GREGORIAN
METHOD:PUBLISH
X-ORIGINAL-URL:https://landesgeschichte-saar.de
X-WR-CALDESC:Veranstaltungen für Kommission für Saarländische Landesgeschichte e.V.
REFRESH-INTERVAL;VALUE=DURATION:PT1H
X-Robots-Tag:noindex
X-PUBLISHED-TTL:PT1H
BEGIN:VTIMEZONE
TZID:Europe/Berlin
BEGIN:DAYLIGHT
TZOFFSETFROM:+0100
TZOFFSETTO:+0200
TZNAME:CEST
DTSTART:20210328T010000
END:DAYLIGHT
BEGIN:STANDARD
TZOFFSETFROM:+0200
TZOFFSETTO:+0100
TZNAME:CET
DTSTART:20211031T010000
END:STANDARD
BEGIN:DAYLIGHT
TZOFFSETFROM:+0100
TZOFFSETTO:+0200
TZNAME:CEST
DTSTART:20220327T010000
END:DAYLIGHT
BEGIN:STANDARD
TZOFFSETFROM:+0200
TZOFFSETTO:+0100
TZNAME:CET
DTSTART:20221030T010000
END:STANDARD
BEGIN:DAYLIGHT
TZOFFSETFROM:+0100
TZOFFSETTO:+0200
TZNAME:CEST
DTSTART:20230326T010000
END:DAYLIGHT
BEGIN:STANDARD
TZOFFSETFROM:+0200
TZOFFSETTO:+0100
TZNAME:CET
DTSTART:20231029T010000
END:STANDARD
END:VTIMEZONE
BEGIN:VEVENT
DTSTART;TZID=Europe/Berlin:20220609T190000
DTEND;TZID=Europe/Berlin:20220609T203000
DTSTAMP:20260424T214539
CREATED:20220404T094505Z
LAST-MODIFIED:20220419T082555Z
UID:1091-1654801200-1654806600@landesgeschichte-saar.de
SUMMARY:Vortrag: Jens Späth - (R)Emigrantenschmerzen. Saarländische Lebensgeschich-ten zwischen Exil\, Nation und Europa
DESCRIPTION:Weitere Informationen unter „Aktuelles“ und „Stream“. \nFür die Präsenzveranstaltung im Landtag des Saarlandes (Willi-Graf-Saal\, 19 Uhr) wird um vorherige Anmeldung (HIER) unter Nennung des Vortragsdatums gebeten.
URL:https://landesgeschichte-saar.de/event/vortrag-jens-spaeth-remigrantenschmerzen-saarlaendische-lebensgeschich-ten-zwischen-exil-nation-und-europa/
LOCATION:Saarländischer Landtag (Willi-Graf-Saal)
END:VEVENT
BEGIN:VEVENT
DTSTART;TZID=Europe/Berlin:20220623T190000
DTEND;TZID=Europe/Berlin:20220623T203000
DTSTAMP:20260424T214539
CREATED:20220404T094559Z
LAST-MODIFIED:20220419T082602Z
UID:1093-1656010800-1656016200@landesgeschichte-saar.de
SUMMARY:Vortrag: Hans-Christian Herrmann - „Pinguin\, Pingusson oder Generation Paris? Das eigentliche Wunder an der Saar“ - ein Essay über saarländische Identi-tät\, oder wie es dazu kam\, dass Frankreich hier seine „treuesten Freunde“ hat.
DESCRIPTION:Weitere Informationen unter „Aktuelles“ und „Stream“. \nFür die Präsenzveranstaltung im Landtag des Saarlandes (Willi-Graf-Saal\, 19 Uhr) wird um vorherige Anmeldung (HIER) unter Nennung des Vortragsdatums gebeten.
URL:https://landesgeschichte-saar.de/event/vortrag-hans-christian-herrmann-pinguin-pingusson-oder-generation-paris-das-eigentliche-wunder-an-der-saar-ein-essay-ueber-saarlaendische-identi-taet-oder-wie-es-dazu-kam-da/
LOCATION:Saarländischer Landtag (Willi-Graf-Saal)
END:VEVENT
BEGIN:VEVENT
DTSTART;TZID=Europe/Berlin:20220630T190000
DTEND;TZID=Europe/Berlin:20220630T203000
DTSTAMP:20260424T214539
CREATED:20220404T094657Z
LAST-MODIFIED:20220419T082610Z
UID:1095-1656615600-1656621000@landesgeschichte-saar.de
SUMMARY:Vortrag: Clemens Zimmermann - Kinolandschaften an der Saar. Politische Einflüsse und Publikumspräferenzen
DESCRIPTION:Weitere Informationen unter „Aktuelles“ und „Stream“. \nFür die Präsenzveranstaltung im Landtag des Saarlandes (Willi-Graf-Saal\, 19 Uhr) wird um vorherige Anmeldung (HIER) unter Nennung des Vortragsdatums gebeten.
URL:https://landesgeschichte-saar.de/event/vortrag-clemens-zimmermann-kinolandschaften-an-der-saar-politische-einfluesse-und-publikumspraeferenzen/
LOCATION:Saarländischer Landtag (Willi-Graf-Saal)
END:VEVENT
END:VCALENDAR