BEGIN:VCALENDAR
VERSION:2.0
PRODID:-//Kommission für Saarländische Landesgeschichte e.V. - ECPv6.15.20//NONSGML v1.0//EN
CALSCALE:GREGORIAN
METHOD:PUBLISH
X-ORIGINAL-URL:https://landesgeschichte-saar.de
X-WR-CALDESC:Veranstaltungen für Kommission für Saarländische Landesgeschichte e.V.
REFRESH-INTERVAL;VALUE=DURATION:PT1H
X-Robots-Tag:noindex
X-PUBLISHED-TTL:PT1H
BEGIN:VTIMEZONE
TZID:Europe/Berlin
BEGIN:DAYLIGHT
TZOFFSETFROM:+0100
TZOFFSETTO:+0200
TZNAME:CEST
DTSTART:20200329T010000
END:DAYLIGHT
BEGIN:STANDARD
TZOFFSETFROM:+0200
TZOFFSETTO:+0100
TZNAME:CET
DTSTART:20201025T010000
END:STANDARD
BEGIN:DAYLIGHT
TZOFFSETFROM:+0100
TZOFFSETTO:+0200
TZNAME:CEST
DTSTART:20210328T010000
END:DAYLIGHT
BEGIN:STANDARD
TZOFFSETFROM:+0200
TZOFFSETTO:+0100
TZNAME:CET
DTSTART:20211031T010000
END:STANDARD
BEGIN:DAYLIGHT
TZOFFSETFROM:+0100
TZOFFSETTO:+0200
TZNAME:CEST
DTSTART:20220327T010000
END:DAYLIGHT
BEGIN:STANDARD
TZOFFSETFROM:+0200
TZOFFSETTO:+0100
TZNAME:CET
DTSTART:20221030T010000
END:STANDARD
END:VTIMEZONE
BEGIN:VEVENT
DTSTART;TZID=Europe/Berlin:20210701T190000
DTEND;TZID=Europe/Berlin:20210701T210000
DTSTAMP:20260425T122956
CREATED:20210623T065539Z
LAST-MODIFIED:20210623T065711Z
UID:888-1625166000-1625173200@landesgeschichte-saar.de
SUMMARY:Vortrag: Tobias Arand - Ein „Sumpf aus Blut und Hirn und Eingeweiden“. Zeitzeugen berichten aus dem Krieg von 1870/71
DESCRIPTION:Weitere Informationen unter „Aktuelles“ und „Stream“.
URL:https://landesgeschichte-saar.de/event/vortrag-tobias-arand-ein-sumpf-aus-blut-und-hirn-und-eingeweiden-zeitzeugen-berichten-aus-dem-krieg-von-1870-71/
LOCATION:VHS-Zentrum Saarbrücken am Schlossplatz
END:VEVENT
BEGIN:VEVENT
DTSTART;TZID=Europe/Berlin:20210708T190000
DTEND;TZID=Europe/Berlin:20210708T210000
DTSTAMP:20260425T122956
CREATED:20210623T065857Z
LAST-MODIFIED:20210623T065857Z
UID:892-1625770800-1625778000@landesgeschichte-saar.de
SUMMARY:Vortrag: Gabriele Clemens - Bewegte Frauen im Kaiserreich?
DESCRIPTION:Weitere Informationen unter „Aktuelles“ und „Stream“.
URL:https://landesgeschichte-saar.de/event/vortrag-gabriele-clemens-bewegte-frauen-im-kaiserreich/
LOCATION:Historisches Museum Saar\, Schloßpl. 15\, Saarbrücken\, Saarland\, 66119\, Deutschland
END:VEVENT
END:VCALENDAR