BEGIN:VCALENDAR
VERSION:2.0
PRODID:-//Kommission für Saarländische Landesgeschichte e.V. - ECPv6.15.20//NONSGML v1.0//EN
CALSCALE:GREGORIAN
METHOD:PUBLISH
X-WR-CALNAME:Kommission für Saarländische Landesgeschichte e.V.
X-ORIGINAL-URL:https://landesgeschichte-saar.de
X-WR-CALDESC:Veranstaltungen für Kommission für Saarländische Landesgeschichte e.V.
REFRESH-INTERVAL;VALUE=DURATION:PT1H
X-Robots-Tag:noindex
X-PUBLISHED-TTL:PT1H
BEGIN:VTIMEZONE
TZID:Europe/Berlin
BEGIN:DAYLIGHT
TZOFFSETFROM:+0100
TZOFFSETTO:+0200
TZNAME:CEST
DTSTART:20200329T010000
END:DAYLIGHT
BEGIN:STANDARD
TZOFFSETFROM:+0200
TZOFFSETTO:+0100
TZNAME:CET
DTSTART:20201025T010000
END:STANDARD
BEGIN:DAYLIGHT
TZOFFSETFROM:+0100
TZOFFSETTO:+0200
TZNAME:CEST
DTSTART:20210328T010000
END:DAYLIGHT
BEGIN:STANDARD
TZOFFSETFROM:+0200
TZOFFSETTO:+0100
TZNAME:CET
DTSTART:20211031T010000
END:STANDARD
BEGIN:DAYLIGHT
TZOFFSETFROM:+0100
TZOFFSETTO:+0200
TZNAME:CEST
DTSTART:20220327T010000
END:DAYLIGHT
BEGIN:STANDARD
TZOFFSETFROM:+0200
TZOFFSETTO:+0100
TZNAME:CET
DTSTART:20221030T010000
END:STANDARD
END:VTIMEZONE
BEGIN:VEVENT
DTSTART;TZID=Europe/Berlin:20210617T180000
DTEND;TZID=Europe/Berlin:20210617T203000
DTSTAMP:20260425T133829
CREATED:20210609T112852Z
LAST-MODIFIED:20210609T113513Z
UID:841-1623952800-1623961800@landesgeschichte-saar.de
SUMMARY:Vortrag: Siebzig Saarjahre – 1951-2021 – Siebzig Jahre Identitätssuche
DESCRIPTION:Der Vortrag „Siebzig Saarjahre – 1951-2021 – Siebzig Jahre Identitätssuche“ des Aachener Historikers Armin Heinen wird die Geschichte der Kommission für Landesgeschichte sowie die des Saarlandes in den letzten Jahrzehnten näher beleuchten. Ministerpräsident Tobias Hans wird dazu das Grußwort sprechen. Die Veranstaltung findet in Kooperation mit der Union Stiftung (Steinstraße 10; 66115 Saarbrücken) statt.\nhttps://landesgeschichte-saar.de/2021/06/09/70-jahre-kommission-fuer-saarlaendische-landesgeschichte
URL:https://landesgeschichte-saar.de/event/vortrag-siebzig-saarjahre-1951-2021-siebzig-jahre-identitaetssuche/
LOCATION:Union Stiftung\, Steinstraße 10\, 66115 Saarbrücken
END:VEVENT
BEGIN:VEVENT
DTSTART;TZID=Europe/Berlin:20210624T190000
DTEND;TZID=Europe/Berlin:20210624T210000
DTSTAMP:20260425T133829
CREATED:20210623T065210Z
LAST-MODIFIED:20210623T065626Z
UID:886-1624561200-1624568400@landesgeschichte-saar.de
SUMMARY:Vortrag: Jörn Leonhard - Einbinden und Ausschließen. Das Deutsche Kaiserreich und die Ambivalenzen des Nationalismus
DESCRIPTION:Weitere Informationen unter „Aktuelles“ und „Stream“.
URL:https://landesgeschichte-saar.de/event/vortrag-joern-leonhard-einbinden-und-ausschliessen-das-deutsche-kaiserreich-und-die-ambivalenzen-des-nationalismus/
LOCATION:VHS-Zentrum Saarbrücken am Schlossplatz
END:VEVENT
END:VCALENDAR