BEGIN:VCALENDAR
VERSION:2.0
PRODID:-//Kommission für Saarländische Landesgeschichte e.V. - ECPv6.15.20//NONSGML v1.0//EN
CALSCALE:GREGORIAN
METHOD:PUBLISH
X-WR-CALNAME:Kommission für Saarländische Landesgeschichte e.V.
X-ORIGINAL-URL:https://landesgeschichte-saar.de
X-WR-CALDESC:Veranstaltungen für Kommission für Saarländische Landesgeschichte e.V.
REFRESH-INTERVAL;VALUE=DURATION:PT1H
X-Robots-Tag:noindex
X-PUBLISHED-TTL:PT1H
BEGIN:VTIMEZONE
TZID:Europe/Berlin
BEGIN:DAYLIGHT
TZOFFSETFROM:+0100
TZOFFSETTO:+0200
TZNAME:CEST
DTSTART:20240331T010000
END:DAYLIGHT
BEGIN:STANDARD
TZOFFSETFROM:+0200
TZOFFSETTO:+0100
TZNAME:CET
DTSTART:20241027T010000
END:STANDARD
BEGIN:DAYLIGHT
TZOFFSETFROM:+0100
TZOFFSETTO:+0200
TZNAME:CEST
DTSTART:20250330T010000
END:DAYLIGHT
BEGIN:STANDARD
TZOFFSETFROM:+0200
TZOFFSETTO:+0100
TZNAME:CET
DTSTART:20251026T010000
END:STANDARD
BEGIN:DAYLIGHT
TZOFFSETFROM:+0100
TZOFFSETTO:+0200
TZNAME:CEST
DTSTART:20260329T010000
END:DAYLIGHT
BEGIN:STANDARD
TZOFFSETFROM:+0200
TZOFFSETTO:+0100
TZNAME:CET
DTSTART:20261025T010000
END:STANDARD
END:VTIMEZONE
BEGIN:VEVENT
DTSTART;TZID=Europe/Berlin:20251127T180000
DTEND;TZID=Europe/Berlin:20251127T200000
DTSTAMP:20260422T212546
CREATED:20251009T081235Z
LAST-MODIFIED:20251009T081235Z
UID:1856-1764266400-1764273600@landesgeschichte-saar.de
SUMMARY:Thilo Offergeld - Ein deutsch-französischer Streitfall? Die Universität des Saarlandes im Meinungskampf 1955–1957
DESCRIPTION:Die 1948 auf französische Initiative gegründete Universität des Saarlandes stellte eine geradezu exemplarische Einrichtung des teilautonomen Saarstaats dar. Dessen Grundidee\, deutsche und französische Elemente zu einer neuen saarländischen Politik zu verbinden\, ist wohl nirgends deutlicher verwirklicht worden als in der zweisprachigen Saar-Hochschule. Hat die Universität deshalb im Abstimmungskampf 1955 und in den Umbruchjahren 1956/57 eine prominente Rolle gespielt\, den Nein-Sagern verhasst als Leitinstitution der „pénétration culturelle“\, den Ja-Sagern wertvoll als Modellprojekt internationaler Zusammenarbeit? Bei näherem Hinsehen finden sich derlei Annahmen nur teilweise bestätigt. Weder das Feindbild einer französischen Propagandazentrale noch das Idyll einer völkerverbindenden\, „europäischen“ Hochschule werden der Realität der Saar-Uni gerecht. Der Vortrag versucht\, die komplexe Position der Universität zwischen den politischen Fronten in diesen prägenden Jahren zu bestimmen und daraus Überlegungen zur neuen Rolle der Hochschule im werdenden Bundesland Saarland abzuleiten.
URL:https://landesgeschichte-saar.de/event/thilo-offergeld-ein-deutsch-franzoesischer-streitfall-die-universitaet-des-saarlandes-im-meinungskampf-1955-1957/
LOCATION:Historisches Museum Saar\, Schloßpl. 15\, Saarbrücken\, Saarland\, 66119\, Deutschland
END:VEVENT
END:VCALENDAR