BEGIN:VCALENDAR
VERSION:2.0
PRODID:-//Kommission für Saarländische Landesgeschichte e.V. - ECPv6.15.20//NONSGML v1.0//EN
CALSCALE:GREGORIAN
METHOD:PUBLISH
X-ORIGINAL-URL:https://landesgeschichte-saar.de
X-WR-CALDESC:Veranstaltungen für Kommission für Saarländische Landesgeschichte e.V.
REFRESH-INTERVAL;VALUE=DURATION:PT1H
X-Robots-Tag:noindex
X-PUBLISHED-TTL:PT1H
BEGIN:VTIMEZONE
TZID:Europe/Berlin
BEGIN:DAYLIGHT
TZOFFSETFROM:+0100
TZOFFSETTO:+0200
TZNAME:CEST
DTSTART:20240331T010000
END:DAYLIGHT
BEGIN:STANDARD
TZOFFSETFROM:+0200
TZOFFSETTO:+0100
TZNAME:CET
DTSTART:20241027T010000
END:STANDARD
BEGIN:DAYLIGHT
TZOFFSETFROM:+0100
TZOFFSETTO:+0200
TZNAME:CEST
DTSTART:20250330T010000
END:DAYLIGHT
BEGIN:STANDARD
TZOFFSETFROM:+0200
TZOFFSETTO:+0100
TZNAME:CET
DTSTART:20251026T010000
END:STANDARD
BEGIN:DAYLIGHT
TZOFFSETFROM:+0100
TZOFFSETTO:+0200
TZNAME:CEST
DTSTART:20260329T010000
END:DAYLIGHT
BEGIN:STANDARD
TZOFFSETFROM:+0200
TZOFFSETTO:+0100
TZNAME:CET
DTSTART:20261025T010000
END:STANDARD
END:VTIMEZONE
BEGIN:VEVENT
DTSTART;TZID=Europe/Berlin:20250624T180000
DTEND;TZID=Europe/Berlin:20250624T200000
DTSTAMP:20260423T032400
CREATED:20250505T151455Z
LAST-MODIFIED:20250505T151455Z
UID:1770-1750788000-1750795200@landesgeschichte-saar.de
SUMMARY:Vortrag: Fabian Lemmes - NS-Zwangsarbeit im Saarland: Stand und Perspektiven der Forschung 80 Jahre nach Kriegsende
DESCRIPTION:Politische Akademie der SDS\nEuropaallee 18\n66113 Saarbrücken \nIn Kooperation mit der Stiftung Demokratie Saarland. \nDer Einsatz ausländischer Zwangsarbeitskräfte war eines der nationalsozialistischen Massenverbrechen in Deutschland und Europa. Rund 13\,5 Millionen ausländische Zivilpersonen\, Kriegsgefangene und (KZ-)Häftlinge arbeiteten während des Kriegs im Deutschen Reich\, weitere Millionen für deutsche Zwecke in den besetzten Gebieten. Auch auf dem Gebiet der heutigen Großregion wurden überall ausländische Arbeitskräfte mehr oder weniger zwangsweise eingesetzt\, im Saarland waren es über 70.000.\nDer Vortrag nimmt den 80. Jahrestag des Kriegsendes zum Anlass\, Bilanz zu ziehen: Was wissen wir über Zwangsarbeit in der Region? Welche Forschungslücken gibt es? Unterschied sich die Situation im Saarland von der in anderen Regionen? Zugleich soll gezeigt werden\, dass kaum ein anderes Phänomen die grenzüberschreitende und europäische Dimension der NS-Herrschaft auch „vor Ort“ so greifbar macht wie der Masseneinsatz von Zwangsarbeitskräften. \nProf. Dr. Fabian Lemmes ist Professor für Kultur- und Mediengeschichte an der Universität des Saarlandes. Er wurde am Europäischen Hochschulinstitut in Florenz promoviert\, war Juniorprofessor für Europäische Geschichte an der Ruhr-Universität Bochum\, Assoziierter Forscher am Centre Marc Bloch Berlin und u.a. Fellow am Deutschen Historischen Institut Paris und am Collegium Lyon. Er forscht zur vergleichenden und transnationalen Geschichte Europas und des Mittelmeerraums vom 19. bis 21. Jh.\, insbesondere zu den Themen Nationalsozialismus und Besatzungen\, Arbeit und Industriekultur\, Migrationen und Grenzregionen\, Medien und Terrorismus\, soziale Bewegungen und Anarchismus. \nFür die Veranstaltung wird um vorherige Anmeldung bei der Stiftung Demokratie Saarland gebeten! Hier geht es direkt zum Anmeldeformular. \nDer Vortrag wird durch die Stiftung Demokratie Saarland gestreamt.
URL:https://landesgeschichte-saar.de/event/vortrag-fabian-lemmes-ns-zwangsarbeit-im-saarland-stand-und-perspektiven-der-forschung-80-jahre-nach-kriegsende/
LOCATION:Stiftung Demokratie Saarland\, Europaallee 18\, Saarbrücken\, Saarland\, 66113
END:VEVENT
END:VCALENDAR