BEGIN:VCALENDAR
VERSION:2.0
PRODID:-//Kommission für Saarländische Landesgeschichte e.V. - ECPv6.15.20//NONSGML v1.0//EN
CALSCALE:GREGORIAN
METHOD:PUBLISH
X-WR-CALNAME:Kommission für Saarländische Landesgeschichte e.V.
X-ORIGINAL-URL:https://landesgeschichte-saar.de
X-WR-CALDESC:Veranstaltungen für Kommission für Saarländische Landesgeschichte e.V.
REFRESH-INTERVAL;VALUE=DURATION:PT1H
X-Robots-Tag:noindex
X-PUBLISHED-TTL:PT1H
BEGIN:VTIMEZONE
TZID:Europe/Berlin
BEGIN:DAYLIGHT
TZOFFSETFROM:+0100
TZOFFSETTO:+0200
TZNAME:CEST
DTSTART:20230326T010000
END:DAYLIGHT
BEGIN:STANDARD
TZOFFSETFROM:+0200
TZOFFSETTO:+0100
TZNAME:CET
DTSTART:20231029T010000
END:STANDARD
BEGIN:DAYLIGHT
TZOFFSETFROM:+0100
TZOFFSETTO:+0200
TZNAME:CEST
DTSTART:20240331T010000
END:DAYLIGHT
BEGIN:STANDARD
TZOFFSETFROM:+0200
TZOFFSETTO:+0100
TZNAME:CET
DTSTART:20241027T010000
END:STANDARD
BEGIN:DAYLIGHT
TZOFFSETFROM:+0100
TZOFFSETTO:+0200
TZNAME:CEST
DTSTART:20250330T010000
END:DAYLIGHT
BEGIN:STANDARD
TZOFFSETFROM:+0200
TZOFFSETTO:+0100
TZNAME:CET
DTSTART:20251026T010000
END:STANDARD
END:VTIMEZONE
BEGIN:VEVENT
DTSTART;TZID=Europe/Berlin:20241128T180000
DTEND;TZID=Europe/Berlin:20241128T200000
DTSTAMP:20260423T105122
CREATED:20241031T144831Z
LAST-MODIFIED:20241031T144831Z
UID:1651-1732816800-1732824000@landesgeschichte-saar.de
SUMMARY:Vortrag - Prof. Dr. Lutz Raphael: Stadt und Umwelt im Schatten von Kohle und Stahl. Neue Studien zur saarländischen Landesgeschichte
DESCRIPTION:in Kooperation mit der Villa Lessing\n18:00 Uhr\, Villa Lessing (Lessingstraße 10 | 66121 Saarbrücken) \nDas Saarland verdankt seine Existenz Kohle und Stahl. Die im Versailler Vertrag 1918 festgelegten Grenzen des neuen Saargebietes beinhalteten nicht nur die Kohlegruben und Stahlwerke\, sondern auch das Einzugsgebiet der dort tätigen Arbeiter. Der Vortrag beleuchtet neuere Arbeiten zur Landesgeschichte des ausgehenden 19. und des 20. Jahrhunderts\, die diese Industriezweige in den Kontext ihrer Arbeiterschaft\, Umweltauswirkungen und schließlich auch in den des Strukturwandels und der Deindustrialisierung setzen.
URL:https://landesgeschichte-saar.de/event/vortrag-prof-dr-lutz-raphael-stadt-und-umwelt-im-schatten-von-kohle-und-stahl-neue-studien-zur-saarlaendischen-landesgeschichte/
LOCATION:Villa Lessing\, Lessingstraße 10\, Saarbrücken\, Saarland\, 66121\, Deutschland
END:VEVENT
END:VCALENDAR