BEGIN:VCALENDAR
VERSION:2.0
PRODID:-//Kommission für Saarländische Landesgeschichte e.V. - ECPv6.15.20//NONSGML v1.0//EN
CALSCALE:GREGORIAN
METHOD:PUBLISH
X-ORIGINAL-URL:https://landesgeschichte-saar.de
X-WR-CALDESC:Veranstaltungen für Kommission für Saarländische Landesgeschichte e.V.
REFRESH-INTERVAL;VALUE=DURATION:PT1H
X-Robots-Tag:noindex
X-PUBLISHED-TTL:PT1H
BEGIN:VTIMEZONE
TZID:Europe/Berlin
BEGIN:DAYLIGHT
TZOFFSETFROM:+0100
TZOFFSETTO:+0200
TZNAME:CEST
DTSTART:20210328T010000
END:DAYLIGHT
BEGIN:STANDARD
TZOFFSETFROM:+0200
TZOFFSETTO:+0100
TZNAME:CET
DTSTART:20211031T010000
END:STANDARD
BEGIN:DAYLIGHT
TZOFFSETFROM:+0100
TZOFFSETTO:+0200
TZNAME:CEST
DTSTART:20220327T010000
END:DAYLIGHT
BEGIN:STANDARD
TZOFFSETFROM:+0200
TZOFFSETTO:+0100
TZNAME:CET
DTSTART:20221030T010000
END:STANDARD
BEGIN:DAYLIGHT
TZOFFSETFROM:+0100
TZOFFSETTO:+0200
TZNAME:CEST
DTSTART:20230326T010000
END:DAYLIGHT
BEGIN:STANDARD
TZOFFSETFROM:+0200
TZOFFSETTO:+0100
TZNAME:CET
DTSTART:20231029T010000
END:STANDARD
END:VTIMEZONE
BEGIN:VEVENT
DTSTART;TZID=Europe/Berlin:20221110T180000
DTEND;TZID=Europe/Berlin:20221110T200000
DTSTAMP:20260424T171552
CREATED:20220810T100723Z
LAST-MODIFIED:20220810T101406Z
UID:1208-1668103200-1668110400@landesgeschichte-saar.de
SUMMARY:Jahresvortrag 2022: Kohle\, Ruß und Schlamm - Die französische Montanindustrie und saarländische Umweltkonflikte\, 1950er bis 1970er Jahre (Dr. Jonas Kaesler)
DESCRIPTION:Jahresvortrag 2022\nKohle\, Ruß und Schlamm\nDie französische Montanindustrie und saarländische Umweltkonflikte\, 1950er bis 1970er Jahre\nDr. Jonas Kaesler\n10. November 2022\, 18 Uhr – Stiftung Demokratie Saarland\, Europaallee 18\, 66113 Saarbrücken \nUm aus den Erfahrungen der Vergangenheit Lehren zur Lösung heutiger Krisen abzuleiten\, sollten auch Umweltkonflikte in einen größeren Kontext gestellt werden. Jonas Kaesler wird in seinem Vortrag his-torische Umweltkonflikte im saarländisch-französischen Grenzgebiet beleuchten\, die angesichts der derzeitigen Fragen nach Nutzen und Konsequenzen der fossilen Energiewirtschaft kaum aktueller sein könnten. Als Folge der industriellen Verschmutzung durch die französische Kohleindustrie in den 1950er Jahren kam es zur Konstituierung saarländischer Initiativen\, die die Verschmutzung der Luft und der grenzüberschreitenden Flüsse durch die französische Kohleindustrie kritisierten. Die französischen Verursacher der Umweltverschmutzung im Grenzgebiet zwischen Kleinblittersdorf und Großrosseln wiesen ihre Verantwortung für stinkende Gewässer und rußhaltige Luft jahrelang zurück. Der Vortrag rekonstruiert die Entstehung\, den Verlauf und das Ergebnis eines Umweltkonflikts\, der in seinem „lokalen Kontext transregional\, und in seinem europäischen Kontext transnational” war\, so Jonas Kaesler. Die Auswirkungen umweltverschmutzender Aktivitäten zogen\, wie im Fall der saarländisch-französischen Umweltdebatte\, soziale\, ökonomische und politische Kreise\, die weit über den eigentlichen lokalen Kern des Konflikts hinauswuchsen.
URL:https://landesgeschichte-saar.de/event/jahresvortrag-2022-kohle-russ-und-schlamm-die-franzoesische-montanindustrie-und-saarlaendische-umweltkonflikte-1950er-bis-1970er-jahre-dr-jonas-kaesler/
LOCATION:Stiftung Demokratie Saarland\, Europaallee 18\, Saarbrücken\, Saarland\, 66113
END:VEVENT
END:VCALENDAR