BEGIN:VCALENDAR
VERSION:2.0
PRODID:-//Kommission für Saarländische Landesgeschichte e.V. - ECPv6.15.20//NONSGML v1.0//EN
CALSCALE:GREGORIAN
METHOD:PUBLISH
X-WR-CALNAME:Kommission für Saarländische Landesgeschichte e.V.
X-ORIGINAL-URL:https://landesgeschichte-saar.de
X-WR-CALDESC:Veranstaltungen für Kommission für Saarländische Landesgeschichte e.V.
REFRESH-INTERVAL;VALUE=DURATION:PT1H
X-Robots-Tag:noindex
X-PUBLISHED-TTL:PT1H
BEGIN:VTIMEZONE
TZID:Europe/Berlin
BEGIN:DAYLIGHT
TZOFFSETFROM:+0100
TZOFFSETTO:+0200
TZNAME:CEST
DTSTART:20210328T010000
END:DAYLIGHT
BEGIN:STANDARD
TZOFFSETFROM:+0200
TZOFFSETTO:+0100
TZNAME:CET
DTSTART:20211031T010000
END:STANDARD
BEGIN:DAYLIGHT
TZOFFSETFROM:+0100
TZOFFSETTO:+0200
TZNAME:CEST
DTSTART:20220327T010000
END:DAYLIGHT
BEGIN:STANDARD
TZOFFSETFROM:+0200
TZOFFSETTO:+0100
TZNAME:CET
DTSTART:20221030T010000
END:STANDARD
BEGIN:DAYLIGHT
TZOFFSETFROM:+0100
TZOFFSETTO:+0200
TZNAME:CEST
DTSTART:20230326T010000
END:DAYLIGHT
BEGIN:STANDARD
TZOFFSETFROM:+0200
TZOFFSETTO:+0100
TZNAME:CET
DTSTART:20231029T010000
END:STANDARD
END:VTIMEZONE
BEGIN:VEVENT
DTSTART;TZID=Europe/Berlin:20220707T190000
DTEND;TZID=Europe/Berlin:20220707T203000
DTSTAMP:20260424T213426
CREATED:20220405T094841Z
LAST-MODIFIED:20220419T082617Z
UID:1101-1657220400-1657225800@landesgeschichte-saar.de
SUMMARY:Vortrag: Christoph Brüll - Die Großregion in zwei Nachkriegszeiten: grenzgeschichtliche Perspektiven auf Kontinuitäten und Brüche
DESCRIPTION:Weitere Informationen unter „Aktuelles“ und „Stream“. \nFür die Präsenzveranstaltung im Landtag des Saarlandes (Willi-Graf-Saal\, 19 Uhr) wird um vorherige Anmeldung (HIER) unter Nennung des Vortragsdatums gebeten.
URL:https://landesgeschichte-saar.de/event/vortrag-christoph-bruell-die-grossregion-in-zwei-nachkriegszeiten-grenzgeschichtliche-perspektiven-auf-kontinuitaeten-und-brueche/
LOCATION:Saarländischer Landtag (Willi-Graf-Saal)
END:VEVENT
END:VCALENDAR