BEGIN:VCALENDAR
VERSION:2.0
PRODID:-//Kommission für Saarländische Landesgeschichte e.V. - ECPv6.15.20//NONSGML v1.0//EN
CALSCALE:GREGORIAN
METHOD:PUBLISH
X-ORIGINAL-URL:https://landesgeschichte-saar.de
X-WR-CALDESC:Veranstaltungen für Kommission für Saarländische Landesgeschichte e.V.
REFRESH-INTERVAL;VALUE=DURATION:PT1H
X-Robots-Tag:noindex
X-PUBLISHED-TTL:PT1H
BEGIN:VTIMEZONE
TZID:Europe/Berlin
BEGIN:DAYLIGHT
TZOFFSETFROM:+0100
TZOFFSETTO:+0200
TZNAME:CEST
DTSTART:20210328T010000
END:DAYLIGHT
BEGIN:STANDARD
TZOFFSETFROM:+0200
TZOFFSETTO:+0100
TZNAME:CET
DTSTART:20211031T010000
END:STANDARD
BEGIN:DAYLIGHT
TZOFFSETFROM:+0100
TZOFFSETTO:+0200
TZNAME:CEST
DTSTART:20220327T010000
END:DAYLIGHT
BEGIN:STANDARD
TZOFFSETFROM:+0200
TZOFFSETTO:+0100
TZNAME:CET
DTSTART:20221030T010000
END:STANDARD
BEGIN:DAYLIGHT
TZOFFSETFROM:+0100
TZOFFSETTO:+0200
TZNAME:CEST
DTSTART:20230326T010000
END:DAYLIGHT
BEGIN:STANDARD
TZOFFSETFROM:+0200
TZOFFSETTO:+0100
TZNAME:CET
DTSTART:20231029T010000
END:STANDARD
END:VTIMEZONE
BEGIN:VEVENT
DTSTART;TZID=Europe/Berlin:20220519T190000
DTEND;TZID=Europe/Berlin:20220519T203000
DTSTAMP:20260424T235458
CREATED:20220404T094307Z
LAST-MODIFIED:20220419T082548Z
UID:1089-1652986800-1652992200@landesgeschichte-saar.de
SUMMARY:Vortrag: Dominik Schmoll - Zwischen Kaiserreich und Völkerbund: Die Entstehung des Saargebietes in den Krisenjahren 1918-1920
DESCRIPTION:Weitere Informationen unter „Aktuelles“ und „Stream“. \nFür die Präsenzveranstaltung im Landtag des Saarlandes (Willi-Graf-Saal\, 19 Uhr) wird um vorherige Anmeldung (HIER) unter Nennung des Vortragsdatums gebeten.
URL:https://landesgeschichte-saar.de/event/vortrag-dominik-schmoll-zwischen-kaiserreich-und-voelkerbund-die-entstehung-des-saargebietes-in-den-krisenjahren-1918-1920/
LOCATION:Saarländischer Landtag (Willi-Graf-Saal)
END:VEVENT
END:VCALENDAR